BEGIN:VCALENDAR
VERSION:2.0
PRODID:-//Southeast Oklahoma District 60 - ECPv6.15.20//NONSGML v1.0//EN
CALSCALE:GREGORIAN
METHOD:PUBLISH
X-WR-CALNAME:Southeast Oklahoma District 60
X-ORIGINAL-URL:https://seokaa.org
X-WR-CALDESC:Events for Southeast Oklahoma District 60
REFRESH-INTERVAL;VALUE=DURATION:PT1H
X-Robots-Tag:noindex
X-PUBLISHED-TTL:PT1H
BEGIN:VTIMEZONE
TZID:America/Chicago
BEGIN:DAYLIGHT
TZOFFSETFROM:-0600
TZOFFSETTO:-0500
TZNAME:CDT
DTSTART:20240310T080000
END:DAYLIGHT
BEGIN:STANDARD
TZOFFSETFROM:-0500
TZOFFSETTO:-0600
TZNAME:CST
DTSTART:20241103T070000
END:STANDARD
BEGIN:DAYLIGHT
TZOFFSETFROM:-0600
TZOFFSETTO:-0500
TZNAME:CDT
DTSTART:20250309T080000
END:DAYLIGHT
BEGIN:STANDARD
TZOFFSETFROM:-0500
TZOFFSETTO:-0600
TZNAME:CST
DTSTART:20251102T070000
END:STANDARD
BEGIN:DAYLIGHT
TZOFFSETFROM:-0600
TZOFFSETTO:-0500
TZNAME:CDT
DTSTART:20260308T080000
END:DAYLIGHT
BEGIN:STANDARD
TZOFFSETFROM:-0500
TZOFFSETTO:-0600
TZNAME:CST
DTSTART:20261101T070000
END:STANDARD
BEGIN:DAYLIGHT
TZOFFSETFROM:-0600
TZOFFSETTO:-0500
TZNAME:CDT
DTSTART:20270314T080000
END:DAYLIGHT
BEGIN:STANDARD
TZOFFSETFROM:-0500
TZOFFSETTO:-0600
TZNAME:CST
DTSTART:20271107T070000
END:STANDARD
END:VTIMEZONE
BEGIN:VEVENT
DTSTART;TZID=America/Chicago:20250928T000000
DTEND;TZID=America/Chicago:20250928T235959
DTSTAMP:20260419T140724
CREATED:20231221T005307Z
LAST-MODIFIED:20250811T183849Z
UID:460-1759017600-1759103999@seokaa.org
SUMMARY:District 60 Picnic
DESCRIPTION:D60_Picnic_2025 flyer
URL:https://seokaa.org/event/district-60-picnic/
LOCATION:Robbers Cave State Park\, 2084 NW 146th Rd\, Wilburton\, OK\, 74578\, United States
END:VEVENT
BEGIN:VEVENT
DTSTART;TZID=America/Chicago:20260221T180000
DTEND;TZID=America/Chicago:20260221T210000
DTSTAMP:20260419T140724
CREATED:20240201T214840Z
LAST-MODIFIED:20260103T145318Z
UID:573-1771696800-1771707600@seokaa.org
SUMMARY:Spiro Group 34th Anniversary
DESCRIPTION:34th Anniversary\nof the Spiro Group of\nAlcoholics Anonymous\nPot Luck/Speaker Meeting \n34th ann flyer 1 \n 
URL:https://seokaa.org/event/spiro-group-32nd-anniversary/
LOCATION:Spiro AA Group\, 510 S Main St\, Spiro\, OK\, United States
END:VEVENT
BEGIN:VEVENT
DTSTART;TZID=America/Chicago:20260314T133000
DTEND;TZID=America/Chicago:20260314T170000
DTSTAMP:20260419T140724
CREATED:20231221T003915Z
LAST-MODIFIED:20260103T150512Z
UID:448-1773495000-1773507600@seokaa.org
SUMMARY:District Business Meeting
DESCRIPTION:Held at the Cherokee Club\, McAlester \n(100 North “A” St). \n1:30 Fellowship\, 2:00 District Meeting
URL:https://seokaa.org/event/district-business-meeting-2/
LOCATION:Chreokee Club\, 100 North A Street\, McAlester\, OK\, United States
END:VEVENT
BEGIN:VEVENT
DTSTART;TZID=America/Chicago:20260321T180000
DTEND;TZID=America/Chicago:20260321T200000
DTSTAMP:20260419T140724
CREATED:20260226T185727Z
LAST-MODIFIED:20260226T185835Z
UID:828-1774116000-1774123200@seokaa.org
SUMMARY:Poteau Eating/Speaking Meeting
DESCRIPTION:Poteau Unity Group Fun In Sobriety Meeting\nWHEN: SATURDAY March 21\, 2026 TIME: 6:00 pm\nPOT LUCK / SPEAKER: TBD \naa poteau unity sobriety 2026B
URL:https://seokaa.org/event/poteau-eating-speaking-meeting/
LOCATION:Poteau Unity Grp\, 411 Clayton Ave\, Poteau\, OK\, 74953\, United States
END:VEVENT
BEGIN:VEVENT
DTSTART;TZID=America/Chicago:20260322T090000
DTEND;TZID=America/Chicago:20260322T150000
DTSTAMP:20260419T140724
CREATED:20231221T003739Z
LAST-MODIFIED:20260103T151542Z
UID:446-1774170000-1774191600@seokaa.org
SUMMARY:Area 57 Business Meeting
DESCRIPTION:All Area Meetings are Held in OKC \n\nEmbassy Suites – OU Med Center\n\n741 N Phillips Ave\nOklahoma City\, OK 73104\n\n\n9:00 AM – 3:00 PM
URL:https://seokaa.org/event/area-57-business-meeting/
LOCATION:Embassy Suites\, 741 N Phillips\, Okla\, OK\, 73104\, United States
END:VEVENT
BEGIN:VEVENT
DTSTART;TZID=America/Chicago:20260327T150000
DTEND;TZID=America/Chicago:20260329T120000
DTSTAMP:20260419T140724
CREATED:20260103T182757Z
LAST-MODIFIED:20260103T182902Z
UID:822-1774623600-1774785600@seokaa.org
SUMMARY:Promises Men's Getaway Weekend
DESCRIPTION:25th Annual \nPromises \nMen’s Getaway Weekend \n  \n25th Promises Men’s Getaway Weekend-March 27-29\, 2026
URL:https://seokaa.org/event/promises-mens-getaway-weekend/
LOCATION:Camp Egan\, 26633 Hiway 62\, Tahlequah\, OK\, 74464\, United States
END:VEVENT
BEGIN:VEVENT
DTSTART;TZID=America/Chicago:20260410T183000
DTEND;TZID=America/Chicago:20260410T210000
DTSTAMP:20260419T140724
CREATED:20240107T185601Z
LAST-MODIFIED:20260301T172713Z
UID:544-1775845800-1775854800@seokaa.org
SUMMARY:Ada Bi-Monthly Speaker Meeting
DESCRIPTION:Fellowship @ 6:30 \nSnacks @ 7:00 \nSpeaker @ 8:00 \nDIST 60 FLYER 2026 APR BI-MONTHLY THREE LEGACIES GP SPEAKER JUSTIN P THREE LEGACIES GP ADA OK APR10
URL:https://seokaa.org/event/ada-bi-monthly-speaker-meeting/
LOCATION:St Luke’s Episcopal Church\, 100 E 17th St\, Ada\, OK\, United States
END:VEVENT
BEGIN:VEVENT
DTSTART;TZID=America/Chicago:20260515T120000
DTEND;TZID=America/Chicago:20260517T120000
DTSTAMP:20260419T140724
CREATED:20240316T135342Z
LAST-MODIFIED:20251022T131806Z
UID:604-1778846400-1779019200@seokaa.org
SUMMARY:Oklahoma State Conference
DESCRIPTION:Area 57 2026 State Conference \n  \nState-Conf-Flyer
URL:https://seokaa.org/event/oklahoma-state-conference/
LOCATION:Stoney Creek Hotel\, 200 W Albany St\, Broken Arrow\, OK\, 74012\, United States
END:VEVENT
BEGIN:VEVENT
DTSTART;TZID=America/Chicago:20260530T133000
DTEND;TZID=America/Chicago:20260530T170000
DTSTAMP:20260419T140724
CREATED:20231221T003515Z
LAST-MODIFIED:20260103T150547Z
UID:442-1780147800-1780160400@seokaa.org
SUMMARY:District Business Meeting
DESCRIPTION:Held at the Cherokee Club\, McAlester \n(100 North “A” St). \n1:30 Fellowship\, 2:00 District Meeting
URL:https://seokaa.org/event/district-business-meeting/
LOCATION:Chreokee Club\, 100 North A Street\, McAlester\, OK\, United States
END:VEVENT
BEGIN:VEVENT
DTSTART;TZID=America/Chicago:20260607T093000
DTEND;TZID=America/Chicago:20260607T170000
DTSTAMP:20260419T140724
CREATED:20231221T004633Z
LAST-MODIFIED:20260103T151641Z
UID:453-1780824600-1780851600@seokaa.org
SUMMARY:Area 57 Business Meeting
DESCRIPTION:All Area Meetings are Held in OKC \n\nEmbassy Suites – OU Med Center\n\n741 N Phillips Ave\nOklahoma City\, OK 73104\n\n\n9:00 AM – 3:00 PM
URL:https://seokaa.org/event/area-57-business-meeting-3/
LOCATION:Embassy Suites\, 741 N Phillips\, Okla\, OK\, 73104\, United States
END:VEVENT
BEGIN:VEVENT
DTSTART;TZID=America/Chicago:20260829T133000
DTEND;TZID=America/Chicago:20260829T170000
DTSTAMP:20260419T140724
CREATED:20231221T004955Z
LAST-MODIFIED:20260103T150621Z
UID:457-1788010200-1788022800@seokaa.org
SUMMARY:District Business Meeting
DESCRIPTION:Held at the Cherokee Club\, McAlester \n(100 North “A” St). \n1:30 Fellowship\, 2:00 District Meeting
URL:https://seokaa.org/event/district-business-meeting-4/
LOCATION:Chreokee Club\, 100 North A Street\, McAlester\, OK\, United States
END:VEVENT
BEGIN:VEVENT
DTSTART;TZID=America/Chicago:20260913T093000
DTEND;TZID=America/Chicago:20260913T170000
DTSTAMP:20260419T140724
CREATED:20231221T004319Z
LAST-MODIFIED:20260103T151724Z
UID:451-1789291800-1789318800@seokaa.org
SUMMARY:Area 57 Business Meeting
DESCRIPTION:All Area Meetings are Held in OKC \n\nEmbassy Suites – OU Med Center\n\n741 N Phillips Ave\nOklahoma City\, OK 73104\n\n\n9:00 AM – 3:00 PM
URL:https://seokaa.org/event/area-57-business-meeting-2/
LOCATION:Embassy Suites\, 741 N Phillips\, Okla\, OK\, 73104\, United States
END:VEVENT
BEGIN:VEVENT
DTSTART;TZID=America/Chicago:20261114T133000
DTEND;TZID=America/Chicago:20261114T170000
DTSTAMP:20260419T140724
CREATED:20231221T004757Z
LAST-MODIFIED:20260103T150647Z
UID:455-1794663000-1794675600@seokaa.org
SUMMARY:District Business Meeting
DESCRIPTION:Held at the Cherokee Club\, McAlester \n(100 North “A” St). \n1:30 Fellowship\, 2:00 District Meeting
URL:https://seokaa.org/event/district-business-meeting-3/
LOCATION:Chreokee Club\, 100 North A Street\, McAlester\, OK\, United States
END:VEVENT
BEGIN:VEVENT
DTSTART;TZID=America/Chicago:20261122T093000
DTEND;TZID=America/Chicago:20261122T170000
DTSTAMP:20260419T140724
CREATED:20231221T002803Z
LAST-MODIFIED:20260103T151822Z
UID:433-1795339800-1795366800@seokaa.org
SUMMARY:Area Business Meeting
DESCRIPTION:All Area Meetings are Held in OKC \n\nEmbassy Suites – OU Med Center\n\n741 N Phillips Ave\nOklahoma City\, OK 73104\n\n\n9:00 AM – 3:00 PM
URL:https://seokaa.org/event/area-business-meeting/
LOCATION:Embassy Suites\, 741 N Phillips\, Okla\, OK\, 73104\, United States
END:VEVENT
END:VCALENDAR